BEGIN:VCALENDAR
VERSION:2.0
PRODID:-//Tabletop Underground TC - ECPv6.15.20//NONSGML v1.0//EN
CALSCALE:GREGORIAN
METHOD:PUBLISH
X-WR-CALNAME:Tabletop Underground TC
X-ORIGINAL-URL:https://tabletopundergroundtc.com
X-WR-CALDESC:Events for Tabletop Underground TC
REFRESH-INTERVAL;VALUE=DURATION:PT1H
X-Robots-Tag:noindex
X-PUBLISHED-TTL:PT1H
BEGIN:VTIMEZONE
TZID:America/New_York
BEGIN:DAYLIGHT
TZOFFSETFROM:-0500
TZOFFSETTO:-0400
TZNAME:EDT
DTSTART:20220313T070000
END:DAYLIGHT
BEGIN:STANDARD
TZOFFSETFROM:-0400
TZOFFSETTO:-0500
TZNAME:EST
DTSTART:20221106T060000
END:STANDARD
BEGIN:DAYLIGHT
TZOFFSETFROM:-0500
TZOFFSETTO:-0400
TZNAME:EDT
DTSTART:20230312T070000
END:DAYLIGHT
BEGIN:STANDARD
TZOFFSETFROM:-0400
TZOFFSETTO:-0500
TZNAME:EST
DTSTART:20231105T060000
END:STANDARD
BEGIN:DAYLIGHT
TZOFFSETFROM:-0500
TZOFFSETTO:-0400
TZNAME:EDT
DTSTART:20240310T070000
END:DAYLIGHT
BEGIN:STANDARD
TZOFFSETFROM:-0400
TZOFFSETTO:-0500
TZNAME:EST
DTSTART:20241103T060000
END:STANDARD
END:VTIMEZONE
BEGIN:VEVENT
DTSTART;TZID=America/New_York:20230122T160000
DTEND;TZID=America/New_York:20230122T220000
DTSTAMP:20260422T062151
CREATED:20221127T002550Z
LAST-MODIFIED:20230108T190849Z
UID:784-1674403200-1674424800@tabletopundergroundtc.com
SUMMARY:Board Game Night
DESCRIPTION:Join the Traverse City Board Gamers crew every Sunday for an evening of board games! This is a open play event for any participating players so you can meet\, converse\, and play with local gamers.  Learn new games and get started in the board gaming hobby with some great people guiding the way. \nAdmission is $10 for an evening of board games.
URL:https://tabletopundergroundtc.com/event/board-game-night-7/
LOCATION:Tabletop Underground\, 346 E Front St\, Ste 6\, Traverse City\, MI\, 49684\, United States
CATEGORIES:Board Games,Open Gaming
ATTACH;FMTTYPE=image/png:https://tabletopundergroundtc.com/wp-content/uploads/2022/11/Board-Game-Night.png
END:VEVENT
END:VCALENDAR